BEGIN:VCALENDAR
VERSION:2.0
PRODID:-//eventon.com NONSGML v1.0//EN
CALSCALE:GREGORIAN
METHOD:PUBLISH
BEGIN:VEVENT
UID:69e7897b89b2a
DTSTAMP:20260421T142811Z
DTSTART:20191109T100000Z
DTEND:20191109T120000Z
LOCATION:Pennypack Trail parking lot across from Lorimer Park
SUMMARY:Spotted Lanternfly Egg Hunt (Volunteer Program)
DESCRIPTION:November is the best time to control next year&#8217;s spotted 
 lanternfly population by destroying their eggs. Join Josh Bruce\,  the Trus
 t&#8217;s Research and Restoration Coordinator\,  as he hunts for egg masse
 s on trees and rocks along Pennypack Trail. We will be meeting at the trail
  parking lot across from Lorimer[..]\nhttps://pennypacktrust.org/event/spot
 ted-lanternfly-egg-hunt-volunteer-program/
URL:https://pennypacktrust.org/event/spotted-lanternfly-egg-hunt-volunteer-program/
END:VEVENT
END:VCALENDAR