BEGIN:VCALENDAR
VERSION:2.0
PRODID:-//eventon.com NONSGML v1.0//EN
CALSCALE:GREGORIAN
METHOD:PUBLISH
BEGIN:VEVENT
UID:69e74844298de
DTSTAMP:20260421T094956Z
DTSTART:20200324T190000Z
DTEND:20200324T210000Z
LOCATION:Pennypack Trust Headquarters 2955 Edge Hill Road\,  Huntingdon Valley\,  PA 19006
SUMMARY:Canceled - Managing Stormwater at Home
DESCRIPTION:Curious about what you can do to be a better steward of the env
 ironment? Come to this free workshop in the Visitor Center to learn about t
 he ways that you can help the environment and save money! We will talk abou
 t topics ranging from little things you can do such[..]\nhttps://pennypackt
 rust.org/event/managing-stormwater-at-home/
URL:https://pennypacktrust.org/event/managing-stormwater-at-home/
END:VEVENT
END:VCALENDAR