BEGIN:VCALENDAR
VERSION:2.0
PRODID:-//eventon.com NONSGML v1.0//EN
CALSCALE:GREGORIAN
METHOD:PUBLISH
BEGIN:VEVENT
UID:69e5fc8a32367
DTSTAMP:20260420T101434Z
DTSTART:20200428T190000Z
DTEND:20200428T203000Z
LOCATION:
SUMMARY:Gardening for Hummingbirds Webinar
DESCRIPTION:Refashioned as a webinar in response to COVID-19 concerns. Penn
 ypack member Cindy Ahern\,  adjunct professor in Temple University&#8217;s 
 Department of Landscape Architecture and Horticulture\,  will present her p
 opular hummingbird program. This lively and informative presentation will b
 e accompanied by beautiful images and plenty of recommendations for plants 
 and other features[..]\nhttps://pennypacktrust.org/event/gardening-for-humm
 ingbirds/
URL:https://pennypacktrust.org/event/gardening-for-hummingbirds/
END:VEVENT
END:VCALENDAR