BEGIN:VCALENDAR
VERSION:2.0
PRODID:-//eventon.com NONSGML v1.0//EN
CALSCALE:GREGORIAN
METHOD:PUBLISH
BEGIN:VEVENT
UID:69e5163860bc5
DTSTAMP:20260419T175152Z
DTSTART:20200805T203000Z
DTEND:20200805T213000Z
LOCATION:Visitor&#039;s Center 2955 Edge Hill Rd
SUMMARY:Night Hike
DESCRIPTION:Join a Pennypack staff member on an exploration of the Pennypac
 k Preserve at night.  Bring a flashlight!  Inclement weather cancels.  L
 imited to 15 participants.  Pre-registration required.  Members Only Even
 t. Use passcode from the August members email. Please wear a mask and pract
 ice social distancing!\nhttps://pennypacktrust.org/event/night-hike/
URL:https://pennypacktrust.org/event/night-hike/
END:VEVENT
END:VCALENDAR