BEGIN:VCALENDAR
VERSION:2.0
PRODID:-//eventon.com NONSGML v1.0//EN
CALSCALE:GREGORIAN
METHOD:PUBLISH
BEGIN:VEVENT
UID:69e8457e778c6
DTSTAMP:20260422T035022Z
DTSTART:20201001T183000Z
DTEND:20201001T200000Z
LOCATION:Pennypack Trust Headquarters 2955 Edge Hill Road\,  Huntingdon Valley\,  PA 19006
SUMMARY:Full Moon Walk: SOLD OUT
DESCRIPTION:SOLD OUT Join a Pennypack staff member on an exploration of the
  Pennypack Preserve after dark.  Be advised: depending on the route select
 ed\,  this walk may include a steep\,  rocky\,  and difficult climb out of 
 the Pennypack valley in the dark. Program cancelled in the event of incleme
 nt weather. Members[..]\nhttps://pennypacktrust.org/event/full-moon-walk-2/
URL:https://pennypacktrust.org/event/full-moon-walk-2/
END:VEVENT
END:VCALENDAR