BEGIN:VCALENDAR
VERSION:2.0
PRODID:-//eventon.com NONSGML v1.0//EN
CALSCALE:GREGORIAN
METHOD:PUBLISH
BEGIN:VEVENT
UID:69e636472edc2
DTSTAMP:20260420T142055Z
DTSTART:20210107T210000Z
DTEND:20210107T220000Z
LOCATION:Pennypack Trust Headquarters 2955 Edge Hill Road\,  Huntingdon Valley\,  PA 19006
SUMMARY:SOLD OUT Pre-School Nature Club
DESCRIPTION:Bring your children ages 2-5 to enjoy nature-based lessons\,  a
 ctivities and play using the Pennypack Preserve as a classroom.  Hike thro
 ugh meadows\,  skip over puddles and investigate wildlife.  Nature Club\, 
  led by environmental educator Kevin Roth\,  is held the second Thursday of
  each month. We are following Montgomery County’s guidelines[..]\nhttps:/
 /pennypacktrust.org/event/pre-school-nature-club-3/
URL:https://pennypacktrust.org/event/pre-school-nature-club-3/
END:VEVENT
END:VCALENDAR