BEGIN:VCALENDAR
VERSION:2.0
PRODID:-//eventon.com NONSGML v1.0//EN
CALSCALE:GREGORIAN
METHOD:PUBLISH
BEGIN:VEVENT
UID:69ece9a4590a6
DTSTAMP:20260425T161948Z
DTSTART:20230603T140000Z
DTEND:20230603T153000Z
LOCATION:Pennypack Trust Headquarters 2955 Edge Hill Road\,  Huntingdon Valley\,  PA 19006
SUMMARY:Turtle Tour
DESCRIPTION:June 3rd &#8211; Turtle Tour\,  Saturday\,  10:00 AM to 11:30 A
 M Meet at the Visitor’s Center and after a short lecture about turtles we
  will hike as a group to a pond.  Tour the pond with naturalist Dana Ward 
 while looking for turtles and learning about the other wildlife we[..]\nhtt
 ps://pennypacktrust.org/event/turtle-tour-2/
URL:https://pennypacktrust.org/event/turtle-tour-2/
END:VEVENT
END:VCALENDAR