BEGIN:VCALENDAR
VERSION:2.0
PRODID:-//eventon.com NONSGML v1.0//EN
CALSCALE:GREGORIAN
METHOD:PUBLISH
BEGIN:VEVENT
UID:69e4d55f03cef
DTSTAMP:20260419T131511Z
DTSTART:20211117T060000Z
DTEND:20211117T080000Z
LOCATION:Pennypack Trust Headquarters 2955 Edge Hill Road\,  Huntingdon Valley\,  PA 19006
SUMMARY:A New Future for the Trust
DESCRIPTION:Talk with Executive Director Chris Mendel about envisioning cha
 nges to the Trustâ€™s trails\,  sustainable energy production\,  and new me
 eting spaces indoors and out. These efforts will be the focus of this yearâ
 €™s Annual Fund. Join us to help plan our next 50 years! This program will 
 be in our Visitors[..]\nhttps://pennypacktrust.org/event/a-new-future-for-t
 he-trust/
URL:https://pennypacktrust.org/event/a-new-future-for-the-trust/
END:VEVENT
END:VCALENDAR