BEGIN:VCALENDAR
VERSION:2.0
PRODID:-//eventon.com NONSGML v1.0//EN
CALSCALE:GREGORIAN
METHOD:PUBLISH
BEGIN:VEVENT
UID:69e747dc180e8
DTSTAMP:20260421T094812Z
DTSTART:20220412T203000Z
DTEND:20220412T223000Z
LOCATION:Pennypack Trust Headquarters 2955 Edge Hill Road\,  Huntingdon Valley\,  PA 19006
SUMMARY:Spring Migration Bird Walk
DESCRIPTION:April 12th – Spring Migration Bird Walk\,  Tuesday\,  4:30 PM
  to 6:30 PM We will walk the trails of the Pennypack Preserve in search of 
 early migrating songbirds such as Pine Warblers\,  Palm Warblers\,  and Blu
 e-gray Gnatcatchers. Bring binoculars and a field guide if you have them. M
 embers are free;[..]\nhttps://pennypacktrust.org/event/spring-migration-bir
 d-walk-2/
URL:https://pennypacktrust.org/event/spring-migration-bird-walk-2/
END:VEVENT
END:VCALENDAR