BEGIN:VCALENDAR
VERSION:2.0
PRODID:-//eventon.com NONSGML v1.0//EN
CALSCALE:GREGORIAN
METHOD:PUBLISH
BEGIN:VEVENT
UID:69e73697cc667
DTSTAMP:20260421T083431Z
DTSTART:20220929T113000Z
DTEND:20220929T133000Z
LOCATION:Pennypack Trust Headquarters 2955 Edge Hill Road\,  Huntingdon Valley\,  PA 19006
SUMMARY:Fall Migration Bird Walk
DESCRIPTION:The Pennypack Trust is a hotspot for migrating birds during fal
 l migration. Join our Environmental Educator\,  Kevin Roth\,  as we search 
 for migrating birds such as Magnolia Warblers and Northern Parulas\,  stopp
 ing by to rest and feed before they continue their journey. Free\,  but pre
 -registration is required. Register here: https://app.etapestry.com/cart/Pe
 nnypackEcologicalRestorati/default/item.php?ref=1204.0.867582035[..]\nhttps
 ://pennypacktrust.org/event/fall-migration-bird-walk-3/
URL:https://pennypacktrust.org/event/fall-migration-bird-walk-3/
END:VEVENT
END:VCALENDAR