BEGIN:VCALENDAR
VERSION:2.0
PRODID:-//eventon.com NONSGML v1.0//EN
CALSCALE:GREGORIAN
METHOD:PUBLISH
BEGIN:VEVENT
UID:69e746da644aa
DTSTAMP:20260421T094354Z
DTSTART:20230818T233000Z
DTEND:20230819T003000Z
LOCATION:Pennypack Trust Headquarters 2955 Edge Hill Road\,  Huntingdon Valley\,  PA 19006
SUMMARY:Cancelled-Family Friendly Night Hike
DESCRIPTION:August 18th &#8211; Family Friendly Night Hike\,  Friday\,  7:3
 0 PM to 8:30 PM CANCELLED. Bring your flashlights and join us for a rare op
 portunity to enjoy the beauty of the Pennypack Trust in the dark! Bats\,  o
 wls\,  moths\,  and other nocturnal creatures await us as we explore the wo
 ods\,  meadows\, [..]\nhttps://pennypacktrust.org/event/night-hike-3/
URL:https://pennypacktrust.org/event/night-hike-3/
END:VEVENT
END:VCALENDAR