BEGIN:VCALENDAR
VERSION:2.0
PRODID:-//eventon.com NONSGML v1.0//EN
CALSCALE:GREGORIAN
METHOD:PUBLISH
BEGIN:VEVENT
UID:69e5fe094ad24
DTSTAMP:20260420T102057Z
DTSTART:20231118T130000Z
DTEND:20231118T210000Z
LOCATION:Birding Trip to Edwin Forsythe National Wildlife Refuge  800 Great Creek Road\,  Galloway\,  NJ 08205
SUMMARY:Birding Trip to Edwin Forsythe National Wildlife Refuge (AKA Brigantine National Wildlife Refuge)
DESCRIPTION:November 18th &#8211; Birding Trip to Edwin Forsythe National W
 ildlife Refuge (AKA Brigantine National Wildlife Refuge)\,  Saturday\,  mee
 t at 8 a.m. We will meet at the Refuge’s Visitors Center parking lot (800
  Great Creek Road\,  Galloway\,  NJ 08205) and bird a few trails then drive
  the Wildlife Drive looking for[..]\nhttps://pennypacktrust.org/event/birdi
 ng-trip-to-edwin-forsythe-national-wildlife-refuge-aka-brigantine-national-
 wildlife-refuge-2/
URL:https://pennypacktrust.org/event/birding-trip-to-edwin-forsythe-national-wildlife-refuge-aka-brigantine-national-wildlife-refuge-2/
END:VEVENT
END:VCALENDAR