BEGIN:VCALENDAR
VERSION:2.0
PRODID:-//eventon.com NONSGML v1.0//EN
CALSCALE:GREGORIAN
METHOD:PUBLISH
BEGIN:VEVENT
UID:69e73862bd6a4
DTSTAMP:20260421T084210Z
DTSTART:20240214T000000Z
DTEND:20240214T020000Z
LOCATION:Pennypack Trust Headquarters 2955 Edge Hill Road\,  Huntingdon Valley\,  PA 19006
SUMMARY:Trout Unlimited
DESCRIPTION:February 13th &#8211; Trout Unlimited\,  Tuesday\,  7:00 PM to 
 9:00 PM The Southeastern Montgomery County Chapter of Trout Unlimited holds
  its monthly meetings in the Trust&#8217;s Visitor Center on the second Tue
 sday of each month. All are welcome!\nhttps://pennypacktrust.org/event/trou
 t-unlimited-5/
URL:https://pennypacktrust.org/event/trout-unlimited-5/
END:VEVENT
END:VCALENDAR