BEGIN:VCALENDAR
VERSION:2.0
PRODID:-//eventon.com NONSGML v1.0//EN
CALSCALE:GREGORIAN
METHOD:PUBLISH
BEGIN:VEVENT
UID:69e6d55ff03ab
DTSTAMP:20260421T013943Z
DTSTART:20240309T153000Z
DTEND:20240309T170000Z
LOCATION:Pennypack Trust Headquarters 2955 Edge Hill Road\,  Huntingdon Valley\,  PA 19006
SUMMARY:Eco-Mindfulness and Sweetgrass
DESCRIPTION:Eco-Mindfulness and Sweetgrass Saturday\,  March 9th\,  10:30 a
 m – 12:00 pm Come join us this as we practice Mindfulness and Nature medi
 tation together along with a monthly book discussion of Robin Wall Kimmerer
 ’s best-selling book Braiding Sweetgrass: Indigenous Wisdom\,  Scientific
  Knowledge\,  and the Teachings of Plants. Kimmerer beautifully weaves toge
 ther[..]\nhttps://pennypacktrust.org/event/eco-mindfulness-and-sweetgrass/
URL:https://pennypacktrust.org/event/eco-mindfulness-and-sweetgrass/
END:VEVENT
END:VCALENDAR