BEGIN:VCALENDAR
VERSION:2.0
PRODID:-//eventon.com NONSGML v1.0//EN
CALSCALE:GREGORIAN
METHOD:PUBLISH
BEGIN:VEVENT
UID:69e748ac338cf
DTSTAMP:20260421T095140Z
DTSTART:20240203T140000Z
DTEND:20240203T170000Z
LOCATION:Pennypack Trust Headquarters 2955 Edge Hill Road\,  Huntingdon Valley\,  PA 19006
SUMMARY:Growing Up Wild Educator Workshop
DESCRIPTION:Saturday\,  February 3rd 2024 9:00 AM to 12:00 PM Growing Up Wi
 ld Exploring Nature with Young Children is an early childhood education ac
 tivity guide (ages 3-7) that builds on children’s sense of wonder about n
 ature and invites them to explore wildlife and the world around them. Thr
 ough a wide range of activities and[..]\nhttps://pennypacktrust.org/event/g
 rowing-up-wild-educator-workshop/
URL:https://pennypacktrust.org/event/growing-up-wild-educator-workshop/
END:VEVENT
END:VCALENDAR