BEGIN:VCALENDAR
VERSION:2.0
PRODID:-//eventon.com NONSGML v1.0//EN
CALSCALE:GREGORIAN
METHOD:PUBLISH
BEGIN:VEVENT
UID:69ed325fcc483
DTSTAMP:20260425T213007Z
DTSTART:20240511T130000Z
DTEND:20240511T160000Z
LOCATION:Pennypack Trust Headquarters 2955 Edge Hill Road\,  Huntingdon Valley\,  PA 19006
SUMMARY:Spring Birdseed Sale
DESCRIPTION:May 11th – Birdseed Sale\,  Saturday\,  9:00 AM to 12:00 PM T
 his is the last chance for the spring season to buy Pennypack’s birdseed 
 at reduced prices! Members receive 20% off and non-members receive 10% off 
 our regular prices. You can pre-order seed by mail or online. For mail\,  u
 se[..]\nhttps://pennypacktrust.org/event/spring-birdseed-sale-2/
URL:https://pennypacktrust.org/event/spring-birdseed-sale-2/
END:VEVENT
END:VCALENDAR