BEGIN:VCALENDAR
VERSION:2.0
PRODID:-//eventon.com NONSGML v1.0//EN
CALSCALE:GREGORIAN
METHOD:PUBLISH
BEGIN:VEVENT
UID:69e88ac40776b
DTSTAMP:20260422T084556Z
DTSTART:20240521T140000Z
DTEND:20240521T160000Z
LOCATION:Pennypack Trust Headquarters 2955 Edge Hill Road\,  Huntingdon Valley\,  PA 19006
SUMMARY:Homeschool Day at PERT- Morning Sessions - Cancelled
DESCRIPTION:Cancelled May 21st – Homeschool Day at PERT\,  Tuesday\,  10:
 00 AM to 12:00 PM Habitats as Homes and All About Amphibians Morning Sessio
 n: Geared toward 2nd-4th grade\,  but all ages welcome. Session 1: 10:00-10
 :55 &#8211; Habitats as Homes Session 2: 11:05-12:00 &#8211; Salamanders\, 
  Frogs\,  and Toads $10 Per Child or[..]\nhttps://pennypacktrust.org/event/
 homeschool-day-at-pert-morning-sessions/
URL:https://pennypacktrust.org/event/homeschool-day-at-pert-morning-sessions/
END:VEVENT
END:VCALENDAR