BEGIN:VCALENDAR
VERSION:2.0
PRODID:-//eventon.com NONSGML v1.0//EN
CALSCALE:GREGORIAN
METHOD:PUBLISH
BEGIN:VEVENT
UID:69e958c9eb1ba
DTSTAMP:20260422T232457Z
DTSTART:20200418T130000Z
DTEND:20200418T150000Z
LOCATION:Pennypack Trust Headquarters 2955 Edge Hill Road\,  Huntingdon Valley\,  PA 19006
SUMMARY:CANCELLED: Wild Edibles and Wildlflower Walk
DESCRIPTION:Learn and sample the many edible plants growing in the Pennypac
 k Preserve and look for wildflowers during a walk with naturalist Dana Ward
 . Pre-registration required by April 16.  Members frees; non-members $10.\
 nhttps://pennypacktrust.org/event/wild-edibles-wildlflower-walk/
URL:https://pennypacktrust.org/event/wild-edibles-wildlflower-walk/
END:VEVENT
END:VCALENDAR