BEGIN:VCALENDAR
VERSION:2.0
PRODID:-//eventon.com NONSGML v1.0//EN
CALSCALE:GREGORIAN
METHOD:PUBLISH
BEGIN:VEVENT
UID:69e5586262caa
DTSTAMP:20260419T223410Z
DTSTART:20190218
DTEND:20190219
LOCATION:
SUMMARY:Uncover the Trees
DESCRIPTION:Help the staff uncover the thousands of young trees that they a
 nd volunteers had covered last September to protect the trees from deer ant
 ler damage.  Call the office (215.657.0830) to let us know when you can he
 lp for a few hours Monday through Fridday.\nhttps://pennypacktrust.org/even
 t/uncover-the-trees/
URL:https://pennypacktrust.org/event/uncover-the-trees/
END:VEVENT
END:VCALENDAR