BEGIN:VCALENDAR
VERSION:2.0
PRODID:-//eventon.com NONSGML v1.0//EN
CALSCALE:GREGORIAN
METHOD:PUBLISH
BEGIN:VEVENT
UID:69e53ef6587c0
DTSTAMP:20260419T204542Z
DTSTART:20190219
DTEND:20190220
LOCATION:
SUMMARY:Uncover the Trees
DESCRIPTION:Help the staff uncover the thousands of young trees that they a
 nd volunteers had covered last September to protect the trees from deer ant
 ler damage.  Call the office (215.657.0830) to let us know when you can he
 lp for a few hours Monday through Fridday.\nhttps://pennypacktrust.org/even
 t/uncover-the-trees/var/ri-1.l-L1
URL:https://pennypacktrust.org/event/uncover-the-trees/var/ri-1.l-L1
END:VEVENT
END:VCALENDAR