BEGIN:VCALENDAR
VERSION:2.0
PRODID:-//eventon.com NONSGML v1.0//EN
CALSCALE:GREGORIAN
METHOD:PUBLISH
BEGIN:VEVENT
UID:69eba261c209e
DTSTAMP:20260424T170329Z
DTSTART:20250927T130000Z
DTEND:20250927T170000Z
LOCATION:Pennypack Trust Headquarters 2955 Edge Hill Road\,  Huntingdon Valley\,  PA 19006
SUMMARY:Pennypack Watershed Guided Bike Ride
DESCRIPTION:September 27th &#8211; Pennypack Watershed Guided Bike Ride\,  
 Saturday\,  9:00 AM to 1:00 PM Join us for a professionally guided\,  round
 -trip bike adventure along the Pennypack Creek\,  spanning approximately 10
  scenic miles between the Pennypack Ecological Restoration Trust (PERT) and
  the Pennypack Environmental Center (PEC) in Philadelphia. This curated 3-4
 -hour[..]\nhttps://pennypacktrust.org/event/pennypack-watershed-guided-bike
 -ride/
URL:https://pennypacktrust.org/event/pennypack-watershed-guided-bike-ride/
END:VEVENT
END:VCALENDAR