BEGIN:VCALENDAR
VERSION:2.0
PRODID:-//eventon.com NONSGML v1.0//EN
CALSCALE:GREGORIAN
METHOD:PUBLISH
BEGIN:VEVENT
UID:69e749fc99ae7
DTSTAMP:20260421T095716Z
DTSTART:20251016T220000Z
DTEND:20251017T000000Z
LOCATION:Pennypack Trust Headquarters 2955 Edge Hill Road\,  Huntingdon Valley\,  PA 19006
SUMMARY:Wingspan Game Night
DESCRIPTION:October 16th &#8211; Wingspan Game Night\,  Thursday\,  6:00 PM
  to 8:00 PM Join us for an exciting and challenging bird themed game night 
 for adults featuring the board game Wingspan. Collect ‘Feather Points’\
 ,  cache food\,  lay eggs and learn a new bird fact while you play. This pr
 ogram is limited[..]\nhttps://pennypacktrust.org/event/wingspan-game-night-
 4/
URL:https://pennypacktrust.org/event/wingspan-game-night-4/
END:VEVENT
END:VCALENDAR