BEGIN:VCALENDAR
VERSION:2.0
PRODID:-//eventon.com NONSGML v1.0//EN
CALSCALE:GREGORIAN
METHOD:PUBLISH
BEGIN:VEVENT
UID:69e5fd9f5ea87
DTSTAMP:20260420T101911Z
DTSTART:20260119T150000Z
DTEND:20260119T170000Z
LOCATION:Pennypack Trust Headquarters 2955 Edge Hill Road\,  Huntingdon Valley\,  PA 19006
SUMMARY:Service Day (Volunteer Opportunity)
DESCRIPTION:January 19th &#8211; Service Day\,  Monday\,  10:00 PM to 12:00
  PM We are at capacity for this event. Join us for our next day of service
  on February 16th. Register here: Service Day in February Lend a hand in t
 he Pennypack Preserve for a few hours of service in honor of Martin[..]\nht
 tps://pennypacktrust.org/event/service-day-volunteer-opportunity-7/
URL:https://pennypacktrust.org/event/service-day-volunteer-opportunity-7/
END:VEVENT
END:VCALENDAR