BEGIN:VCALENDAR
VERSION:2.0
PRODID:-//eventon.com NONSGML v1.0//EN
CALSCALE:GREGORIAN
METHOD:PUBLISH
BEGIN:VEVENT
UID:69e5e8882f195
DTSTAMP:20260420T084912Z
DTSTART:20260412T140000Z
DTEND:20260412T160000Z
LOCATION:Pennypack Trust Headquarters 2955 Edge Hill Road\,  Huntingdon Valley\,  PA 19006
SUMMARY:Moderate-Paced Coyote Loop Hike
DESCRIPTION:April 12th &#8211; Moderate-Paced Coyote Loop Hike Led by Vira 
 Katolik\,  Sunday\,  10 AM Get familiar with our new trail loop system! Joi
 n board member\,  committee chair\,  and experienced volunteer Vira Katolik
  for a 4-6-mile hike along the Pennypack Trust’s trails. The moderate-pac
 ed hike through varied terrain starts with the[..]\nhttps://pennypacktrust.
 org/event/moderate-paced-coyote-loop-hike-copy/
URL:https://pennypacktrust.org/event/moderate-paced-coyote-loop-hike-copy/
END:VEVENT
END:VCALENDAR