BEGIN:VCALENDAR
VERSION:2.0
PRODID:-//eventon.com NONSGML v1.0//EN
CALSCALE:GREGORIAN
METHOD:PUBLISH
BEGIN:VEVENT
UID:69e753684d083
DTSTAMP:20260421T103728Z
DTSTART:20260422T230000Z
DTEND:20260423T010000Z
LOCATION:Pennypack Trust Headquarters 2955 Edge Hill Road\,  Huntingdon Valley\,  PA 19006
SUMMARY:Photo Contest Awards
DESCRIPTION:April 22nd &#8211; Photo Contest Awards\,  Wednesday\,  7:00 PM
  to 9:00 PM We will be showing all the photo contest entries from 2025 in o
 ur Visitor’s Center and announcing the winning photos which will be avail
 able for viewing and purchase later this year. Come celebrate images of PER
 T and meet[..]\nhttps://pennypacktrust.org/event/photo-contest-awards-4/
URL:https://pennypacktrust.org/event/photo-contest-awards-4/
END:VEVENT
END:VCALENDAR