BEGIN:VCALENDAR
VERSION:2.0
PRODID:-//eventon.com NONSGML v1.0//EN
CALSCALE:GREGORIAN
METHOD:PUBLISH
BEGIN:VEVENT
UID:69e749a02e8ed
DTSTAMP:20260421T095544Z
DTSTART:20260507T213000Z
DTEND:20260507T230000Z
LOCATION:Pennypack Trust Headquarters 2955 Edge Hill Road\,  Huntingdon Valley\,  PA 19006
SUMMARY:Native Plant Garden Tour at PERT
DESCRIPTION:May 7th – Native Plant Garden Tour at PERT\,  Thursday\,  5:3
 0 PM to 7:00 PM Take an evening stroll through the native plant gardens at 
 the Pennypack Trust and learn how these landscapes support wildlife and enh
 ance the beauty of the Preserve. Led by members of the Huntingdon Valley Ga
 rden[..]\nhttps://pennypacktrust.org/event/native-plant-garden-tour-at-pert
 /
URL:https://pennypacktrust.org/event/native-plant-garden-tour-at-pert/
END:VEVENT
END:VCALENDAR