BEGIN:VCALENDAR
VERSION:2.0
PRODID:-//eventon.com NONSGML v1.0//EN
CALSCALE:GREGORIAN
METHOD:PUBLISH
BEGIN:VEVENT
UID:69e747e81c973
DTSTAMP:20260421T094824Z
DTSTART:20260520T140000Z
DTEND:20260520T160000Z
LOCATION:Pennypack Trust Headquarters 2955 Edge Hill Road\,  Huntingdon Valley\,  PA 19006
SUMMARY:Easy-Paced Chickadee Loop Hike May 20th
DESCRIPTION:May 20th – Easy-Paced Chickadee Loop Hike Led by Vira Katolik
 \,  Wednesday\,  10 AM Get familiar with our new trail loop system! Join bo
 ard member\,  committee chair\,  and experienced volunteer Vira Katolik for
  a 3-mile hike along the Pennypack Trust’s trails. The easy-paced hike th
 rough varied terrain starts with the[..]\nhttps://pennypacktrust.org/event/
 easy-paced-chickadee-loop-hike-may-20th/
URL:https://pennypacktrust.org/event/easy-paced-chickadee-loop-hike-may-20th/
END:VEVENT
END:VCALENDAR