BEGIN:VCALENDAR
VERSION:2.0
PRODID:-//eventon.com NONSGML v1.0//EN
CALSCALE:GREGORIAN
METHOD:PUBLISH
BEGIN:VEVENT
UID:69e7485ebeaf1
DTSTAMP:20260421T095022Z
DTSTART:20260531T140000Z
DTEND:20260531T160000Z
LOCATION:Pennypack Trust Headquarters 2955 Edge Hill Road\,  Huntingdon Valley\,  PA 19006
SUMMARY:Moderate-Paced Coyote Loop Hike May 31st
DESCRIPTION:May 31st &#8211; Moderate-Paced Coyote Loop Hike Led by Vira Ka
 tolik\,  Sunday\,  10 AM Get familiar with our new trail loop system! Join 
 board member\,  committee chair\,  and experienced volunteer Vira Katolik f
 or a 4-6-mile hike along the Pennypack Trust’s trails. The moderate-paced
  hike through varied terrain starts with the[..]\nhttps://pennypacktrust.or
 g/event/moderate-paced-coyote-loop-hike-may-31st/
URL:https://pennypacktrust.org/event/moderate-paced-coyote-loop-hike-may-31st/
END:VEVENT
END:VCALENDAR