BEGIN:VCALENDAR
VERSION:2.0
PRODID:-//eventon.com NONSGML v1.0//EN
CALSCALE:GREGORIAN
METHOD:PUBLISH
BEGIN:VEVENT
UID:69ea9bb896b88
DTSTAMP:20260423T222248Z
DTSTART:20220514T130000Z
DTEND:20220514T160000Z
LOCATION:Pennypack Trust Headquarters 2955 Edge Hill Road\,  Huntingdon Valley\,  PA 19006
SUMMARY:Spring Bird Seed Sale
DESCRIPTION:May 14th – Birdseed Sale\,  Saturday\,  9:00 AM to 12:00 PM T
 his is the last chance for the spring season to buy Pennypack’s birdseed 
 at reduced prices! Members receive 20% off and non-members receive 10% off 
 our regular prices. You can pre-order seed by mail or online. For mail\,  u
 se[..]\nhttps://pennypacktrust.org/event/spring-bird-seed-sale/
URL:https://pennypacktrust.org/event/spring-bird-seed-sale/
END:VEVENT
END:VCALENDAR