BEGIN:VCALENDAR
VERSION:2.0
PRODID:-//eventon.com NONSGML v1.0//EN
CALSCALE:GREGORIAN
METHOD:PUBLISH
BEGIN:VEVENT
UID:69e7382f73947
DTSTAMP:20260421T084119Z
DTSTART:20180603T140000Z
DTEND:20180603T160000Z
LOCATION:Pennypack Trust Headquarters 2955 Edge Hill Road\,  Huntingdon Valley\,  PA 19006
SUMMARY:ROBERTSON FAREWELL OPEN HOUSE
DESCRIPTION:After 30 years\,  Pennypack&#8217;s executive director David Ro
 bertson is retiring.  Drop by between 2-4 p.m. to send David and his wife\
 ,  Mary\,  off in style at a gathering in the Visitor Center for members\, 
  friends\,  and well-wishers.  In addition\,  you&#8217;ll have a chance t
 o meet and welcome the Trust&#8217;s new[..]\nhttps://pennypacktrust.org/ev
 ent/robertson-farewell-open-house/
URL:https://pennypacktrust.org/event/robertson-farewell-open-house/
END:VEVENT
END:VCALENDAR