BEGIN:VCALENDAR
VERSION:2.0
PRODID:-//eventon.com NONSGML v1.0//EN
CALSCALE:GREGORIAN
METHOD:PUBLISH
BEGIN:VEVENT
UID:69e74b0042abd
DTSTAMP:20260421T100136Z
DTSTART:20180516T010000Z
DTEND:20180517T200000Z
LOCATION:
SUMMARY:AJDE Test
DESCRIPTION:AJDE Test\nhttps://pennypacktrust.org/event/ajde-test/
URL:https://pennypacktrust.org/event/ajde-test/
END:VEVENT
END:VCALENDAR